Workbook

Sheet README
B2: Blank Coverage Templates
B3: Companion to The Equity Research Analyst, by Julian R. Sterling. Reusable, empty. Blue cells on a pale yellow fill are yours to fill; every other cell is a formula that stays blank or shows a dash until its inputs are there.
B5: Sheets
B6: Earnings_Model: a three-segment model (volume x price, margins, adjusted to reported, EPS, FCF, net debt), three reported years and three forecast years, the structure of the Halvorsen model.
B7: Consensus_Tracker: up to twelve brokers, estimate age, stale flag, cleaned mean, population standard deviation, your gap and z-score.
B8: Earnings_Day: estimate against actual on results morning, with the EPS bridge by segment.
B9: Rating_Grid: total return, rating, the Hold line and the target needed for a Buy.
B10: Rec_Log: a recommendation log scored with the book's rules.
B11: Checks: structural checks (no error value on any sheet).
B13: Nothing is locked. No macros, no links to other files.

Sheet Earnings_Model
B2: Earnings model: three segments, three reported years, three forecast years
B3: Fill the blue cells (history on the left, drivers on the right). $m unless stated.
B4: Inputs: reported history and forecast drivers | C4: FY2022A | D4: FY2023A | E4: FY2024A | F4: FY2025A | G4: FY2026E | H4: FY2027E | I4: FY2028E
B5: Segment 1: revenue (reported)
B6: Segment 2: revenue (reported)
B7: Segment 3: revenue (reported)
B8: Segment 1: volume growth
B9: Segment 2: volume growth
B10: Segment 3: volume growth
B11: Segment 1: price
B12: Segment 2: price
B13: Segment 3: price
B14: Segment 1: segment margin
B15: Segment 2: segment margin
B16: Segment 3: segment margin
... B31: Interest rate on opening net debt
B33: Model (formulas) | D33: FY2023A | E33: FY2024A | F33: FY2025A | G33: FY2026E | H33: FY2027E | I33: FY2028E
B34: Revenue
B35: Segment 1: volume growth | C35: % | D35: =IFERROR((1+D37)/(1+D36)-1,"") | E35: =IFERROR((1+E37)/(1+E36)-1,"") | F35: =IFERROR((1+F37)/(1+F36)-1,"") | G35: =IFERROR($G$8,"") -> 0 | H35: =IFERROR($H$8,"") -> 0 | I35: =IFERROR($I$8,"") -> 0
B36: Segment 1: price | C36: % | D36: =IFERROR($D$11,"") -> 0 | E36: =IFERROR($E$11,"") -> 0 | F36: =IFERROR($F$11,"") -> 0 | G36: =IFERROR($G$11,"") -> 0 | H36: =IFERROR($H$11,"") -> 0 | I36: =IFERROR($I$11,"") -> 0
B37: Segment 1: revenue growth | C37: % | D37: =IFERROR(D38/$C$5-1,"") | E37: =IFERROR(E38/D38-1,"") | F37: =IFERROR(F38/E38-1,"") | G37: =IFERROR((1+G35)*(1+G36)-1,"") -> 0 | H37: =IFERROR((1+H35)*(1+H36)-1,"") -> 0 | I37: =IFERROR((1+I35)*(1+I36)-1,"") -> 0
B38: Segment 1: revenue | C38: $m | D38: =IFERROR($D$5,"") -> 0 | E38: =IFERROR($E$5,"") -> 0 | F38: =IFERROR($F$5,"") -> 0 | G38: =IFERROR(F38*(1+G37),"") -> 0 | H38: =IFERROR(G38*(1+H37),"") -> 0 | I38: =IFERROR(H38*(1+I37),"") -> 0
B39: Segment 2: volume growth | C39: % | D39: =IFERROR((1+D41)/(1+D40)-1,"") | E39: =IFERROR((1+E41)/(1+E40)-1,"") | F39: =IFERROR((1+F41)/(1+F40)-1,"") | G39: =IFERROR($G$9,"") -> 0 | H39: =IFERROR($H$9,"") -> 0 | I39: =IFERROR($I$9,"") -> 0
B40: Segment 2: price | C40: % | D40: =IFERROR($D$12,"") -> 0 | E40: =IFERROR($E$12,"") -> 0 | F40: =IFERROR($F$12,"") -> 0 | G40: =IFERROR($G$12,"") -> 0 | H40: =IFERROR($H$12,"") -> 0 | I40: =IFERROR($I$12,"") -> 0
B41: Segment 2: revenue growth | C41: % | D41: =IFERROR(D42/$C$6-1,"") | E41: =IFERROR(E42/D42-1,"") | F41: =IFERROR(F42/E42-1,"") | G41: =IFERROR((1+G39)*(1+G40)-1,"") -> 0 | H41: =IFERROR((1+H39)*(1+H40)-1,"") -> 0 | I41: =IFERROR((1+I39)*(1+I40)-1,"") -> 0
B42: Segment 2: revenue | C42: $m | D42: =IFERROR($D$6,"") -> 0 | E42: =IFERROR($E$6,"") -> 0 | F42: =IFERROR($F$6,"") -> 0 | G42: =IFERROR(F42*(1+G41),"") -> 0 | H42: =IFERROR(G42*(1+H41),"") -> 0 | I42: =IFERROR(H42*(1+I41),"") -> 0
B43: Segment 3: volume growth | C43: % | D43: =IFERROR((1+D45)/(1+D44)-1,"") | E43: =IFERROR((1+E45)/(1+E44)-1,"") | F43: =IFERROR((1+F45)/(1+F44)-1,"") | G43: =IFERROR($G$10,"") -> 0 | H43: =IFERROR($H$10,"") -> 0 | I43: =IFERROR($I$10,"") -> 0
B44: Segment 3: price | C44: % | D44: =IFERROR($D$13,"") -> 0 | E44: =IFERROR($E$13,"") -> 0 | F44: =IFERROR($F$13,"") -> 0 | G44: =IFERROR($G$13,"") -> 0 | H44: =IFERROR($H$13,"") -> 0 | I44: =IFERROR($I$13,"") -> 0
B45: Segment 3: revenue growth | C45: % | D45: =IFERROR(D46/$C$7-1,"") | E45: =IFERROR(E46/D46-1,"") | F45: =IFERROR(F46/E46-1,"") | G45: =IFERROR((1+G43)*(1+G44)-1,"") -> 0 | H45: =IFERROR((1+H43)*(1+H44)-1,"") -> 0 | I45: =IFERROR((1+I43)*(1+I44)-1,"") -> 0
B46: Segment 3: revenue | C46: $m | D46: =IFERROR($D$7,"") -> 0 | E46: =IFERROR($E$7,"") -> 0 | F46: =IFERROR($F$7,"") -> 0 | G46: =IFERROR(F46*(1+G45),"") -> 0 | H46: =IFERROR(G46*(1+H45),"") -> 0 | I46: =IFERROR(H46*(1+I45),"") -> 0
B47: Total revenue | C47: $m | D47: =IFERROR(D38+D42+D46,"") -> 0 | E47: =IFERROR(E38+E42+E46,"") -> 0 | F47: =IFERROR(F38+F42+F46,"") -> 0 | G47: =IFERROR(G38+G42+G46,"") -> 0 | H47: =IFERROR(H38+H42+H46,"") -> 0 | I47: =IFERROR(I38+I42+I46,"") -> 0
B48: Revenue growth | C48: % | D48: =IFERROR(D47/($C$5+$C$6+$C$7)-1,"") | E48: =IFERROR(E47/D47-1,"") | F48: =IFERROR(F47/E47-1,"") | G48: =IFERROR(G47/F47-1,"") | H48: =IFERROR(H47/G47-1,"") | I48: =IFERROR(I47/H47-1,"")
B49: Operating profit
B50: Segment 1: segment margin | C50: % | D50: =IFERROR($D$14,"") -> 0 | E50: =IFERROR($E$14,"") -> 0 | F50: =IFERROR($F$14,"") -> 0 | G50: =IFERROR($G$14,"") -> 0 | H50: =IFERROR($H$14,"") -> 0 | I50: =IFERROR($I$14,"") -> 0
B51: Segment 1: segment operating profit | C51: $m | D51: =IFERROR(D38*D50,"") -> 0 | E51: =IFERROR(E38*E50,"") -> 0 | F51: =IFERROR(F38*F50,"") -> 0 | G51: =IFERROR(G38*G50,"") -> 0 | H51: =IFERROR(H38*H50,"") -> 0 | I51: =IFERROR(I38*I50,"") -> 0
B52: Segment 2: segment margin | C52: % | D52: =IFERROR($D$15,"") -> 0 | E52: =IFERROR($E$15,"") -> 0 | F52: =IFERROR($F$15,"") -> 0 | G52: =IFERROR($G$15,"") -> 0 | H52: =IFERROR($H$15,"") -> 0 | I52: =IFERROR($I$15,"") -> 0
B53: Segment 2: segment operating profit | C53: $m | D53: =IFERROR(D42*D52,"") -> 0 | E53: =IFERROR(E42*E52,"") -> 0 | F53: =IFERROR(F42*F52,"") -> 0 | G53: =IFERROR(G42*G52,"") -> 0 | H53: =IFERROR(H42*H52,"") -> 0 | I53: =IFERROR(I42*I52,"") -> 0
B54: Segment 3: segment margin | C54: % | D54: =IFERROR($D$16,"") -> 0 | E54: =IFERROR($E$16,"") -> 0 | F54: =IFERROR($F$16,"") -> 0 | G54: =IFERROR($G$16,"") -> 0 | H54: =IFERROR($H$16,"") -> 0 | I54: =IFERROR($I$16,"") -> 0
B55: Segment 3: segment operating profit | C55: $m | D55: =IFERROR(D46*D54,"") -> 0 | E55: =IFERROR(E46*E54,"") -> 0 | F55: =IFERROR(F46*F54,"") -> 0 | G55: =IFERROR(G46*G54,"") -> 0 | H55: =IFERROR(H46*H54,"") -> 0 | I55: =IFERROR(I46*I54,"") -> 0
B56: Sum of segment operating profit | C56: $m | D56: =IFERROR(D51+D53+D55,"") -> 0 | E56: =IFERROR(E51+E53+E55,"") -> 0 | F56: =IFERROR(F51+F53+F55,"") -> 0 | G56: =IFERROR(G51+G53+G55,"") -> 0 | H56: =IFERROR(H51+H53+H55,"") -> 0 | I56: =IFERROR(I51+I53+I55,"") -> 0
...

Sheet Consensus_Tracker
B2: Consensus tracker
B3: One row per broker. Stale = older than the threshold. Standard deviation = STDEV.P.
B4: Stale if older than (days) | C4: 90
B5: Your estimate, year 1
B6: Your estimate, year 2
B7: Broker | C7: EPS year 1 | D7: EPS year 2 | E7: Revenue yr 1 | F7: Age (days) | G7: Status | H7: Kept yr 1 | I7: Kept yr 2 | J7: z yr 2 | K7: Kept rev.
G8: =IF(F8="","",IF(F8>$C$4,"Stale","Fresh")) | H8: =IF(AND(G8="Fresh",ISNUMBER(C8)),C8,"") | I8: =IF(AND(G8="Fresh",ISNUMBER(D8)),D8,"") | J8: =IFERROR(IF(I8="","",(I8-$D$27)/$D$28),"") | K8: =IF(AND(G8="Fresh",ISNUMBER(E8)),E8,"")
G9: =IF(F9="","",IF(F9>$C$4,"Stale","Fresh")) | H9: =IF(AND(G9="Fresh",ISNUMBER(C9)),C9,"") | I9: =IF(AND(G9="Fresh",ISNUMBER(D9)),D9,"") | J9: =IFERROR(IF(I9="","",(I9-$D$27)/$D$28),"") | K9: =IF(AND(G9="Fresh",ISNUMBER(E9)),E9,"")
G10: =IF(F10="","",IF(F10>$C$4,"Stale","Fresh")) | H10: =IF(AND(G10="Fresh",ISNUMBER(C10)),C10,"") | I10: =IF(AND(G10="Fresh",ISNUMBER(D10)),D10,"") | J10: =IFERROR(IF(I10="","",(I10-$D$27)/$D$28),"") | K10: =IF(AND(G10="Fresh",ISNUMBER(E10)),E10,"")
G11: =IF(F11="","",IF(F11>$C$4,"Stale","Fresh")) | H11: =IF(AND(G11="Fresh",ISNUMBER(C11)),C11,"") | I11: =IF(AND(G11="Fresh",ISNUMBER(D11)),D11,"") | J11: =IFERROR(IF(I11="","",(I11-$D$27)/$D$28),"") | K11: =IF(AND(G11="Fresh",ISNUMBER(E11)),E11,"")
G12: =IF(F12="","",IF(F12>$C$4,"Stale","Fresh")) | H12: =IF(AND(G12="Fresh",ISNUMBER(C12)),C12,"") | I12: =IF(AND(G12="Fresh",ISNUMBER(D12)),D12,"") | J12: =IFERROR(IF(I12="","",(I12-$D$27)/$D$28),"") | K12: =IF(AND(G12="Fresh",ISNUMBER(E12)),E12,"")
G13: =IF(F13="","",IF(F13>$C$4,"Stale","Fresh")) | H13: =IF(AND(G13="Fresh",ISNUMBER(C13)),C13,"") | I13: =IF(AND(G13="Fresh",ISNUMBER(D13)),D13,"") | J13: =IFERROR(IF(I13="","",(I13-$D$27)/$D$28),"") | K13: =IF(AND(G13="Fresh",ISNUMBER(E13)),E13,"")
G14: =IF(F14="","",IF(F14>$C$4,"Stale","Fresh")) | H14: =IF(AND(G14="Fresh",ISNUMBER(C14)),C14,"") | I14: =IF(AND(G14="Fresh",ISNUMBER(D14)),D14,"") | J14: =IFERROR(IF(I14="","",(I14-$D$27)/$D$28),"") | K14: =IF(AND(G14="Fresh",ISNUMBER(E14)),E14,"")
G15: =IF(F15="","",IF(F15>$C$4,"Stale","Fresh")) | H15: =IF(AND(G15="Fresh",ISNUMBER(C15)),C15,"") | I15: =IF(AND(G15="Fresh",ISNUMBER(D15)),D15,"") | J15: =IFERROR(IF(I15="","",(I15-$D$27)/$D$28),"") | K15: =IF(AND(G15="Fresh",ISNUMBER(E15)),E15,"")
G16: =IF(F16="","",IF(F16>$C$4,"Stale","Fresh")) | H16: =IF(AND(G16="Fresh",ISNUMBER(C16)),C16,"") | I16: =IF(AND(G16="Fresh",ISNUMBER(D16)),D16,"") | J16: =IFERROR(IF(I16="","",(I16-$D$27)/$D$28),"") | K16: =IF(AND(G16="Fresh",ISNUMBER(E16)),E16,"")
G17: =IF(F17="","",IF(F17>$C$4,"Stale","Fresh")) | H17: =IF(AND(G17="Fresh",ISNUMBER(C17)),C17,"") | I17: =IF(AND(G17="Fresh",ISNUMBER(D17)),D17,"") | J17: =IFERROR(IF(I17="","",(I17-$D$27)/$D$28),"") | K17: =IF(AND(G17="Fresh",ISNUMBER(E17)),E17,"")
G18: =IF(F18="","",IF(F18>$C$4,"Stale","Fresh")) | H18: =IF(AND(G18="Fresh",ISNUMBER(C18)),C18,"") | I18: =IF(AND(G18="Fresh",ISNUMBER(D18)),D18,"") | J18: =IFERROR(IF(I18="","",(I18-$D$27)/$D$28),"") | K18: =IF(AND(G18="Fresh",ISNUMBER(E18)),E18,"")
G19: =IF(F19="","",IF(F19>$C$4,"Stale","Fresh")) | H19: =IF(AND(G19="Fresh",ISNUMBER(C19)),C19,"") | I19: =IF(AND(G19="Fresh",ISNUMBER(D19)),D19,"") | J19: =IFERROR(IF(I19="","",(I19-$D$27)/$D$28),"") | K19: =IF(AND(G19="Fresh",ISNUMBER(E19)),E19,"")
B21: Statistics | C21: Year 1 | D21: Year 2
B22: Brokers kept | C22: =COUNT(H8:H19) -> 0 | D22: =COUNT(I8:I19) -> 0
B23: Brokers flagged stale | C23: =COUNTIF(G8:G19,"Stale") -> 0 | D23: =COUNTIF(G8:G19,"Stale") -> 0
B24: Mean, all brokers | C24: =IFERROR(AVERAGE(C8:C19),"") | D24: =IFERROR(AVERAGE(D8:D19),"")
B25: Median, all brokers | C25: =IFERROR(MEDIAN(C8:C19),"") | D25: =IFERROR(MEDIAN(D8:D19),"")
B26: Standard deviation, all (STDEV.P) | C26: =IFERROR(_xlfn.STDEV.P(C8:C19),"") | D26: =IFERROR(_xlfn.STDEV.P(D8:D19),"")
B27: Cleaned mean (fresh only) | C27: =IFERROR(AVERAGE(H8:H19),"") | D27: =IFERROR(AVERAGE(I8:I19),"")
B28: Cleaned standard deviation (STDEV.P) | C28: =IFERROR(_xlfn.STDEV.P(H8:H19),"") | D28: =IFERROR(_xlfn.STDEV.P(I8:I19),"")
B29: Your gap to the cleaned mean | C29: =IFERROR($C$5/C27-1,"") | D29: =IFERROR($C$6/D27-1,"")
B30: Your z-score | C30: =IFERROR(($C$5-C27)/C28,"") | D30: =IFERROR(($C$6-D27)/D28,"")
B31: Your rank (1 = highest, among fresh brokers and you) | C31: =IF(ISNUMBER($C$5),1+COUNTIF(H8:H19,">"&$C$5),"") | D31: =IF(ISNUMBER($C$6),1+COUNTIF(I8:I19,">"&$C$6),"")
B32: Cleaned revenue mean, year 1 | C32: =IFERROR(AVERAGE(K8:K19),"")

Sheet Earnings_Day
B2: Earnings day: estimate against actual
B3: Fill your estimate, the reported actual and the consensus. $m unless stated.
B5: Line | C5: Estimate | D5: Actual | E5: Difference | F5: Difference % | G5: Consensus
B6: Segment 1 revenue | E6: =IFERROR(D6-C6,"") -> 0 | F6: =IFERROR(D6/C6-1,"")
B7: Segment 2 revenue | E7: =IFERROR(D7-C7,"") -> 0 | F7: =IFERROR(D7/C7-1,"")
B8: Segment 3 revenue | E8: =IFERROR(D8-C8,"") -> 0 | F8: =IFERROR(D8/C8-1,"")
B9: Total revenue | C9: =IFERROR(C6+C7+C8,"") -> 0 | D9: =IFERROR(D6+D7+D8,"") -> 0 | E9: =IFERROR(D9-C9,"") -> 0 | F9: =IFERROR(D9/C9-1,"")
B10: Segment 1 margin | E10: =IFERROR((D10-C10)*100,"") -> 0
B11: Segment 2 margin | E11: =IFERROR((D11-C11)*100,"") -> 0
B12: Segment 3 margin | E12: =IFERROR((D12-C12)*100,"") -> 0
B13: Segment 1 operating profit | C13: =IFERROR(C6*C10,"") -> 0 | D13: =IFERROR(D6*D10,"") -> 0 | E13: =IFERROR(D13-C13,"") -> 0 | F13: =IFERROR(D13/C13-1,"")
B14: Segment 2 operating profit | C14: =IFERROR(C7*C11,"") -> 0 | D14: =IFERROR(D7*D11,"") -> 0 | E14: =IFERROR(D14-C14,"") -> 0 | F14: =IFERROR(D14/C14-1,"")
B15: Segment 3 operating profit | C15: =IFERROR(C8*C12,"") -> 0 | D15: =IFERROR(D8*D12,"") -> 0 | E15: =IFERROR(D15-C15,"") -> 0 | F15: =IFERROR(D15/C15-1,"")
B16: Corporate costs | E16: =IFERROR(D16-C16,"") -> 0 | F16: =IFERROR(D16/C16-1,"")
B17: Adjusted EBIT | C17: =IFERROR(C13+C14+C15-C16,"") -> 0 | D17: =IFERROR(D13+D14+D15-D16,"") -> 0 | E17: =IFERROR(D17-C17,"") -> 0 | F17: =IFERROR(D17/C17-1,"")
B18: Adjusted operating margin | C18: =IFERROR(C17/C9,"") | D18: =IFERROR(D17/D9,"") | E18: =IFERROR((D18-C18)*100,"")
B19: Amortization | E19: =IFERROR(D19-C19,"") -> 0 | F19: =IFERROR(D19/C19-1,"")
B20: Restructuring | E20: =IFERROR(D20-C20,"") -> 0 | F20: =IFERROR(D20/C20-1,"")
B21: Reported EBIT | C21: =IFERROR(C17-C19-C20,"") -> 0 | D21: =IFERROR(D17-D19-D20,"") -> 0 | E21: =IFERROR(D21-C21,"") -> 0 | F21: =IFERROR(D21/C21-1,"")
B22: Net interest | E22: =IFERROR(D22-C22,"") -> 0 | F22: =IFERROR(D22/C22-1,"")
B23: Pretax income | C23: =IFERROR(C21-C22,"") -> 0 | D23: =IFERROR(D21-D22,"") -> 0 | E23: =IFERROR(D23-C23,"") -> 0 | F23: =IFERROR(D23/C23-1,"")
B24: Tax rate | E24: =IFERROR((D24-C24)*100,"") -> 0
B25: Net income | C25: =IFERROR(C23*(1-C24),"") -> 0 | D25: =IFERROR(D23*(1-D24),"") -> 0 | E25: =IFERROR(D25-C25,"") -> 0 | F25: =IFERROR(D25/C25-1,"")
B26: Diluted shares (m) | E26: =IFERROR(D26-C26,"") -> 0 | F26: =IFERROR(D26/C26-1,"")
B27: Reported EPS | C27: =IFERROR(C25/C26,"") | D27: =IFERROR(D25/D26,"") | E27: =IFERROR(D27-C27,"") | F27: =IFERROR(D27/C27-1,"")
B28: Adjusted EPS | C28: =IFERROR((C25+(C19+C20)*(1-C24))/C26,"") | D28: =IFERROR((D25+(D19+D20)*(1-D24))/D26,"") | E28: =IFERROR(D28-C28,"") | F28: =IFERROR(D28/C28-1,"")
B30: Actual adjusted EPS vs consensus | C30: =IFERROR(D28/G28-1,"")
B32: Adjusted EPS bridge, estimate to actual ($ per share) | C32: Effect
B33: Estimate | C33: =IFERROR(C28+0,"")
B34: Segment 1 revenue (at estimated margin) | C34: =IFERROR((D6-C6)*C10*(1-C24)/C26,"")
B35: Segment 1 margin (on actual revenue) | C35: =IFERROR(D6*(D10-C10)*(1-C24)/C26,"")
B36: Segment 2 revenue (at estimated margin) | C36: =IFERROR((D7-C7)*C11*(1-C24)/C26,"")
B37: Segment 2 margin (on actual revenue) | C37: =IFERROR(D7*(D11-C11)*(1-C24)/C26,"")
B38: Segment 3 revenue (at estimated margin) | C38: =IFERROR((D8-C8)*C12*(1-C24)/C26,"")
B39: Segment 3 margin (on actual revenue) | C39: =IFERROR(D8*(D12-C12)*(1-C24)/C26,"")
B40: Corporate, interest, shares and other (residual) | C40: =IFERROR(C41-C33-SUM(C34:C39),"")
B41: Actual | C41: =IFERROR(D28+0,"")

Sheet Rating_Grid
B2: Rating grid calculator
B3: Expected 12-month total return = target / price - 1 + dividend yield.
B4: Share price
B5: Price target
B6: Dividend per share, next 12 months
B7: Buy if total return at least | C7: 0.15
B8: Sell if total return at most | C8: -0.05
B10: Upside to target | C10: =IFERROR($C$5/$C$4-1,"")
B11: Dividend yield | C11: =IFERROR($C$6/$C$4,"")
B12: Expected 12-month total return | C12: =IFERROR(C10+C11,"")
B13: Rating | C13: =IF(ISNUMBER(C12),IF(C12>=$C$7,"Buy",IF(C12<=$C$8,"Sell","Hold")),"")
B14: Price above which a Buy falls to Hold: (target + DPS) / (1 + Buy threshold) | C14: =IF(ISNUMBER($C$5),($C$5+$C$6)/(1+$C$7),"")
B15: Price below which a Sell falls to Hold: (target + DPS) / (1 + Sell threshold) | C15: =IF(ISNUMBER($C$5),($C$5+$C$6)/(1+$C$8),"")
B16: Target needed for a Buy at this price: price x (1 + threshold) - DPS | C16: =IF(ISNUMBER($C$4),$C$4*(1+$C$7)-$C$6,"")

Sheet Rec_Log
B2: Recommendation log
B3: Buy right if excess > 0; Sell right if excess < 0; Hold right if the excess is within the band.
B4: Hold band (+/-) | C4: 0.05
B5: Stock | C5: Date | D5: Rating | E5: Start price | F5: End price | G5: Dividends | H5: Benchmark | I5: Total return | J5: Excess | K5: Right?
I6: =IF(AND(ISNUMBER(E6),ISNUMBER(F6)),(F6+N(G6))/E6-1,"") | J6: =IF(AND(ISNUMBER(I6),ISNUMBER(H6)),I6-H6,"") | K6: =IF(OR(D6="",J6=""),"",IF(D6="Buy",IF(J6>0,"yes","no"),IF(D6="Sell",IF(J6<0,"yes","no"),IF(ABS(J6)<=$C$4,"yes","no"))))
I7: =IF(AND(ISNUMBER(E7),ISNUMBER(F7)),(F7+N(G7))/E7-1,"") | J7: =IF(AND(ISNUMBER(I7),ISNUMBER(H7)),I7-H7,"") | K7: =IF(OR(D7="",J7=""),"",IF(D7="Buy",IF(J7>0,"yes","no"),IF(D7="Sell",IF(J7<0,"yes","no"),IF(ABS(J7)<=$C$4,"yes","no"))))
I8: =IF(AND(ISNUMBER(E8),ISNUMBER(F8)),(F8+N(G8))/E8-1,"") | J8: =IF(AND(ISNUMBER(I8),ISNUMBER(H8)),I8-H8,"") | K8: =IF(OR(D8="",J8=""),"",IF(D8="Buy",IF(J8>0,"yes","no"),IF(D8="Sell",IF(J8<0,"yes","no"),IF(ABS(J8)<=$C$4,"yes","no"))))
I9: =IF(AND(ISNUMBER(E9),ISNUMBER(F9)),(F9+N(G9))/E9-1,"") | J9: =IF(AND(ISNUMBER(I9),ISNUMBER(H9)),I9-H9,"") | K9: =IF(OR(D9="",J9=""),"",IF(D9="Buy",IF(J9>0,"yes","no"),IF(D9="Sell",IF(J9<0,"yes","no"),IF(ABS(J9)<=$C$4,"yes","no"))))
I10: =IF(AND(ISNUMBER(E10),ISNUMBER(F10)),(F10+N(G10))/E10-1,"") | J10: =IF(AND(ISNUMBER(I10),ISNUMBER(H10)),I10-H10,"") | K10: =IF(OR(D10="",J10=""),"",IF(D10="Buy",IF(J10>0,"yes","no"),IF(D10="Sell",IF(J10<0,"yes","no"),IF(ABS(J10)<=$C$4,"yes","no"))))
I11: =IF(AND(ISNUMBER(E11),ISNUMBER(F11)),(F11+N(G11))/E11-1,"") | J11: =IF(AND(ISNUMBER(I11),ISNUMBER(H11)),I11-H11,"") | K11: =IF(OR(D11="",J11=""),"",IF(D11="Buy",IF(J11>0,"yes","no"),IF(D11="Sell",IF(J11<0,"yes","no"),IF(ABS(J11)<=$C$4,"yes","no"))))
I12: =IF(AND(ISNUMBER(E12),ISNUMBER(F12)),(F12+N(G12))/E12-1,"") | J12: =IF(AND(ISNUMBER(I12),ISNUMBER(H12)),I12-H12,"") | K12: =IF(OR(D12="",J12=""),"",IF(D12="Buy",IF(J12>0,"yes","no"),IF(D12="Sell",IF(J12<0,"yes","no"),IF(ABS(J12)<=$C$4,"yes","no"))))
I13: =IF(AND(ISNUMBER(E13),ISNUMBER(F13)),(F13+N(G13))/E13-1,"") | J13: =IF(AND(ISNUMBER(I13),ISNUMBER(H13)),I13-H13,"") | K13: =IF(OR(D13="",J13=""),"",IF(D13="Buy",IF(J13>0,"yes","no"),IF(D13="Sell",IF(J13<0,"yes","no"),IF(ABS(J13)<=$C$4,"yes","no"))))
I14: =IF(AND(ISNUMBER(E14),ISNUMBER(F14)),(F14+N(G14))/E14-1,"") | J14: =IF(AND(ISNUMBER(I14),ISNUMBER(H14)),I14-H14,"") | K14: =IF(OR(D14="",J14=""),"",IF(D14="Buy",IF(J14>0,"yes","no"),IF(D14="Sell",IF(J14<0,"yes","no"),IF(ABS(J14)<=$C$4,"yes","no"))))
I15: =IF(AND(ISNUMBER(E15),ISNUMBER(F15)),(F15+N(G15))/E15-1,"") | J15: =IF(AND(ISNUMBER(I15),ISNUMBER(H15)),I15-H15,"") | K15: =IF(OR(D15="",J15=""),"",IF(D15="Buy",IF(J15>0,"yes","no"),IF(D15="Sell",IF(J15<0,"yes","no"),IF(ABS(J15)<=$C$4,"yes","no"))))
I16: =IF(AND(ISNUMBER(E16),ISNUMBER(F16)),(F16+N(G16))/E16-1,"") | J16: =IF(AND(ISNUMBER(I16),ISNUMBER(H16)),I16-H16,"") | K16: =IF(OR(D16="",J16=""),"",IF(D16="Buy",IF(J16>0,"yes","no"),IF(D16="Sell",IF(J16<0,"yes","no"),IF(ABS(J16)<=$C$4,"yes","no"))))
I17: =IF(AND(ISNUMBER(E17),ISNUMBER(F17)),(F17+N(G17))/E17-1,"") | J17: =IF(AND(ISNUMBER(I17),ISNUMBER(H17)),I17-H17,"") | K17: =IF(OR(D17="",J17=""),"",IF(D17="Buy",IF(J17>0,"yes","no"),IF(D17="Sell",IF(J17<0,"yes","no"),IF(ABS(J17)<=$C$4,"yes","no"))))
... I25: =IF(AND(ISNUMBER(E25),ISNUMBER(F25)),(F25+N(G25))/E25-1,"") | J25: =IF(AND(ISNUMBER(I25),ISNUMBER(H25)),I25-H25,"") | K25: =IF(OR(D25="",J25=""),"",IF(D25="Buy",IF(J25>0,"yes","no"),IF(D25="Sell",IF(J25<0,"yes","no"),IF(ABS(J25)<=$C$4,"yes","no"))))
B27: Calls scored | C27: =COUNTIF(K6:K25,"yes")+COUNTIF(K6:K25,"no") -> 0
B28: Right | C28: =COUNTIF(K6:K25,"yes") -> 0
B29: Hit rate | C29: =IFERROR(C28/C27,"")
B30: Buys right / Buys scored | C30: =COUNTIFS(D6:D25,"Buy",K6:K25,"yes")&" of "&(COUNTIFS(D6:D25,"Buy",K6:K25,"yes")+COUNTIFS(D6:D25,"Buy",K6:K25,"no")) -> 0 of 0
B31: Average excess: Buys | C31: =IFERROR(AVERAGEIF(D6:D25,"Buy",J6:J25),"")
B32: Average excess: Sells | C32: =IFERROR(AVERAGEIF(D6:D25,"Sell",J6:J25),"")
B33: Average excess: Holds | C33: =IFERROR(AVERAGEIF(D6:D25,"Hold",J6:J25),"")
B34: Buy minus Sell spread | C34: =IFERROR(C31-C32,"")
B35: Long Buys / short Sells, average excess per position | C35: =IFERROR((SUMIF(D6:D25,"Buy",J6:J25)-SUMIF(D6:D25,"Sell",J6:J25))/SUMPRODUCT(((D6:D25="Buy")+(D6:D25="Sell"))*ISNUMBER(J6:J25)),"")

Sheet Checks
B2: Checks: every figure printed in the book against the live workbook
B3: Structural checks of the templates. They stay PASS whether the templates are empty or filled.
C4: Overall status | E4: =IF(COUNTIF(I9:I14,"PASS")=ROWS(I9:I14),"PASS","FAIL") -> PASS
C5: Number of checks | E5: =ROWS(I9:I14) -> 6
C6: PASS | E6: =COUNTIF(I9:I14,"PASS") -> 6
C7: FAIL | E7: =ROWS(I9:I14)-COUNTIF(I9:I14,"PASS") -> 0
B8: # | C8: Sheet | D8: Figure printed in the book (or logic check) | E8: Printed | F8: Live value | G8: Gap | H8: Tolerance | I8: Status
B9: 1 | C9: Logic | D9: Earnings_Model: no error value in D5:I96 | E9: holds | F9: =IFERROR(IF(SUMPRODUCT(--ISERROR(Earnings_Model!D5:I96))=0,"holds","fails"),"fails") -> holds | I9: =IFERROR(IF(SUMPRODUCT(--ISERROR(Earnings_Model!D5:I96))=0,"PASS","FAIL"),"FAIL") -> PASS
B10: 2 | C10: Logic | D10: Consensus_Tracker: no error value in B4:K40 | E10: holds | F10: =IFERROR(IF(SUMPRODUCT(--ISERROR(Consensus_Tracker!B4:K40))=0,"holds","fails"),"fails") -> holds | I10: =IFERROR(IF(SUMPRODUCT(--ISERROR(Consensus_Tracker!B4:K40))=0,"PASS","FAIL"),"FAIL") -> PASS
B11: 3 | C11: Logic | D11: Earnings_Day: no error value in B5:G45 | E11: holds | F11: =IFERROR(IF(SUMPRODUCT(--ISERROR(Earnings_Day!B5:G45))=0,"holds","fails"),"fails") -> holds | I11: =IFERROR(IF(SUMPRODUCT(--ISERROR(Earnings_Day!B5:G45))=0,"PASS","FAIL"),"FAIL") -> PASS
B12: 4 | C12: Logic | D12: Rating_Grid: no error value in B4:C20 | E12: holds | F12: =IFERROR(IF(SUMPRODUCT(--ISERROR(Rating_Grid!B4:C20))=0,"holds","fails"),"fails") -> holds | I12: =IFERROR(IF(SUMPRODUCT(--ISERROR(Rating_Grid!B4:C20))=0,"PASS","FAIL"),"FAIL") -> PASS
B13: 5 | C13: Logic | D13: Rec_Log: no error value in B4:K40 | E13: holds | F13: =IFERROR(IF(SUMPRODUCT(--ISERROR(Rec_Log!B4:K40))=0,"holds","fails"),"fails") -> holds | I13: =IFERROR(IF(SUMPRODUCT(--ISERROR(Rec_Log!B4:K40))=0,"PASS","FAIL"),"FAIL") -> PASS
B14: 6 | C14: Logic | D14: Rating grid: Buy threshold above Sell threshold | E14: holds | F14: =IFERROR(IF(Rating_Grid!$C$7>Rating_Grid!$C$8,"holds","fails"),"fails") -> holds | I14: =IFERROR(IF(Rating_Grid!$C$7>Rating_Grid!$C$8,"PASS","FAIL"),"FAIL") -> PASS
