Workbook

Sheet Assumptions
B2: Aldermere Filtration, reference AF-7. Blue cells are the only inputs.
B4: Parameter | C4: Value | D4: Unit
B5: Mean weekly demand | C5: 1840 | D5: units
B6: Standard deviation of weekly demand | C6: 462 | D6: units
B7: Weeks per year | C7: 52 | D7: weeks
B8: Mean replenishment lead time | C8: 6 | D8: weeks
B9: Standard deviation of lead time | C9: 1.9 | D9: weeks
B10: Selling price | C10: 47.5 | D10: EUR per unit
B11: Purchase cost delivered | C11: 28.6 | D11: EUR per unit
B12: Cost of capital | C12: 0.074 | D12: per year
B13: Storage | C13: 0.031 | D13: per year
B14: Obsolescence | C14: 0.0225 | D14: per year
B15: Insurance | C15: 0.0065 | D15: per year
B16: Cost of placing one order | C16: 385 | D16: EUR
B17: Cycle service level voted by the board | C17: 0.98 | D17: probability
B18: Unit margin | C18: =Assumptions!C10-Assumptions!C11 -> 18.9 | D18: EUR per unit
B19: Total holding rate | C19: =Assumptions!C12+Assumptions!C13+Assumptions!C14+Assumptions!C15 -> 0.134 | D19: per year
B20: Annual demand | C20: =Assumptions!C5*Assumptions!C7 -> 95680 | D20: units per year
B21: Holding cost of one unit for one year | C21: =Assumptions!C11*Assumptions!C19 -> 3.8324 | D21: EUR per unit per year
B22: Standard deviation of demand during lead time | C22: =SQRT(Assumptions!C8*Assumptions!C6^2+Assumptions!C5^2*Assumptions!C9^2) -> 3674.5993 | D22: units
B23: Economic order quantity | C23: =SQRT(2*Assumptions!C20*Assumptions!C16/Assumptions!C21) -> 4384.5046 | D23: units
B24: Orders per year | C24: =Assumptions!C20/Assumptions!C23 -> 21.822306 | D24: orders per year
B25: Annual ordering cost | C25: =Assumptions!C24*Assumptions!C16 -> 8401.5877 | D25: EUR per year
B26: z at the cycle service level voted by the board | C26: =_xlfn.NORM.S.INV(Assumptions!C17) -> 2.0537489 | D26: standard deviations
B27: Expected shortage per cycle, in sigma units | C27: =(_xlfn.NORM.S.DIST(Assumptions!C26,FALSE())-(Assumptions!C26)*(1-_xlfn.NORM.S.DIST(Assumptions!C26,TRUE()))) -> 0.0073431577 | D27: sigma units
B28: Units missing per year at the board service level | C28: =Assumptions!C22*Assumptions!C27*Assumptions!C24 -> 588.83481 | D28: units per year

Sheet Service level table
B2: The same stock read at every cycle service level
B4: Cycle service level | C4: z | D4: Safety stock | E4: Inventory value | F4: Holding cost | G4: Shortage cost | H4: Total cost | I4: Fill rate | J4: Units missing per year
B5: 0.9 | C5: =_xlfn.NORM.S.INV(B5) -> 1.2815516 | D5: =C5*Assumptions!C22 -> 4709.1885 | E5: =(Assumptions!C23/2+D5)*Assumptions!C11 -> 197381.21 | F5: =E5*Assumptions!C19 -> 26449.082 | G5: =J5*Assumptions!C18 -> 71751.306 | H5: =F5+G5+Assumptions!C25 -> 106601.98 | I5: =1-J5/Assumptions!C20 -> 0.96032227 | J5: =Assumptions!C22*(_xlfn.NORM.S.DIST(C5,FALSE())-(C5)*(1-_xlfn.NORM.S.DIST(C5,TRUE())))*Assumptions!C24 -> 3796.3654
B6: 0.95 | C6: =_xlfn.NORM.S.INV(B6) -> 1.6448536 | D6: =C6*Assumptions!C22 -> 6044.178 | E6: =(Assumptions!C23/2+D6)*Assumptions!C11 -> 235561.91 | F6: =E6*Assumptions!C19 -> 31565.295 | G6: =J6*Assumptions!C18 -> 31664.482 | H6: =F6+G6+Assumptions!C25 -> 71631.365 | I6: =1-J6/Assumptions!C20 -> 0.98248987 | J6: =Assumptions!C22*(_xlfn.NORM.S.DIST(C6,FALSE())-(C6)*(1-_xlfn.NORM.S.DIST(C6,TRUE())))*Assumptions!C24 -> 1675.3694
B7: 0.97 | C7: =_xlfn.NORM.S.INV(B7) -> 1.8807936 | D7: =C7*Assumptions!C22 -> 6911.1629 | E7: =(Assumptions!C23/2+D7)*Assumptions!C11 -> 260357.67 | F7: =E7*Assumptions!C19 -> 34887.928 | G7: =J7*Assumptions!C18 -> 17607.964 | H7: =F7+G7+Assumptions!C25 -> 60897.48 | I7: =1-J7/Assumptions!C20 -> 0.99026298 | J7: =Assumptions!C22*(_xlfn.NORM.S.DIST(C7,FALSE())-(C7)*(1-_xlfn.NORM.S.DIST(C7,TRUE())))*Assumptions!C24 -> 931.63833
B8: 0.98 | C8: =_xlfn.NORM.S.INV(B8) -> 2.0537489 | D8: =C8*Assumptions!C22 -> 7546.7043 | E8: =(Assumptions!C23/2+D8)*Assumptions!C11 -> 278534.16 | F8: =E8*Assumptions!C19 -> 37323.577 | G8: =J8*Assumptions!C18 -> 11128.978 | H8: =F8+G8+Assumptions!C25 -> 56854.143 | I8: =1-J8/Assumptions!C20 -> 0.99384579 | J8: =Assumptions!C22*(_xlfn.NORM.S.DIST(C8,FALSE())-(C8)*(1-_xlfn.NORM.S.DIST(C8,TRUE())))*Assumptions!C24 -> 588.83481
B9: 0.99 | C9: =_xlfn.NORM.S.INV(B9) -> 2.3263479 | D9: =C9*Assumptions!C22 -> 8548.3963 | E9: =(Assumptions!C23/2+D9)*Assumptions!C11 -> 307182.55 | F9: =E9*Assumptions!C19 -> 41162.462 | G9: =J9*Assumptions!C18 -> 5135.7144 | H9: =F9+G9+Assumptions!C25 -> 54699.764 | I9: =1-J9/Assumptions!C20 -> 0.99716 | J9: =Assumptions!C22*(_xlfn.NORM.S.DIST(C9,FALSE())-(C9)*(1-_xlfn.NORM.S.DIST(C9,TRUE())))*Assumptions!C24 -> 271.73092
B10: 0.995 | C10: =_xlfn.NORM.S.INV(B10) -> 2.5758293 | D10: =C10*Assumptions!C22 -> 9465.1406 | E10: =(Assumptions!C23/2+D10)*Assumptions!C11 -> 333401.44 | F10: =E10*Assumptions!C19 -> 44675.792 | G10: =J10*Assumptions!C18 -> 2395.485 | H10: =F10+G10+Assumptions!C25 -> 55472.865 | I10: =1-J10/Assumptions!C20 -> 0.99867532 | J10: =Assumptions!C22*(_xlfn.NORM.S.DIST(C10,FALSE())-(C10)*(1-_xlfn.NORM.S.DIST(C10,TRUE())))*Assumptions!C24 -> 126.74524
B11: 0.999 | C11: =_xlfn.NORM.S.INV(B11) -> 3.0902323 | D11: =C11*Assumptions!C22 -> 11355.365 | E11: =(Assumptions!C23/2+D11)*Assumptions!C11 -> 387461.87 | F11: =E11*Assumptions!C19 -> 51919.89 | G11: =J11*Assumptions!C18 -> 419.59388 | H11: =F11+G11+Assumptions!C25 -> 60741.072 | I11: =1-J11/Assumptions!C20 -> 0.99976797 | J11: =Assumptions!C22*(_xlfn.NORM.S.DIST(C11,FALSE())-(C11)*(1-_xlfn.NORM.S.DIST(C11,TRUE())))*Assumptions!C24 -> 22.200734

Sheet Fill rate solver
B2: Settings of the search
B4: Setting | C4: Value
B5: Target fill rate | C5: 0.98
B6: Lower bound on z | C6: -8
B7: Upper bound on z | C7: 8
B8: Expected shortage per cycle required, in sigma units | C8: =(1-C5)*Assumptions!C23/Assumptions!C22 -> 0.023863852
B10: Result of the search
B12: Result | C12: Value
B13: Status of the search | C13: =IF(AND(ABS(AY24-AY23)<0.000000001,ABS(AY26-C8)<0.000000001),"CONVERGED","NOT CONVERGED") -> CONVERGED
B14: Width of the bracket at the last step | C14: =ABS(AY24-AY23) -> 5.6843419e-14
B15: Gap to the required expected shortage | C15: =ABS(AY26-C8) -> 8.0491169e-16
B16: z that delivers the target fill rate | C16: =AY25 -> 1.5887798
B17: Cycle service level that delivers the target fill rate | C17: =_xlfn.NORM.S.DIST(C16,TRUE()) -> 0.94394494
B18: Fill rate obtained | C18: =1-Assumptions!C22*(_xlfn.NORM.S.DIST(C16,FALSE())-(C16)*(1-_xlfn.NORM.S.DIST(C16,TRUE())))/Assumptions!C23 -> 0.98
B20: The search itself, one bisection step per column
B22: Bisection on z | C22: Start | D22: 1 | E22: 2 | F22: 3 | G22: 4 | H22: 5 | I22: 6 | J22: 7 | K22: 8 | L22: 9 | M22: 10 | N22: 11 | O22: 12 | P22: 13 | Q22: 14 | R22: 15 | S22: 16 | T22: 17 | U22: 18 | V22: 19 | W22: 20 | X22: 21 | Y22: 22 | Z22: 23 | AA22: 24 | AB22: 25 | AC22: 26 | AD22: 27 | AE22: 28 | AF22: 29 | AG22: 30 | AH22: 31 | AI22: 32 | AJ22: 33 | AK22: 34 | AL22: 35 | AM22: 36 | AN22: 37 | AO22: 38 | AP22: 39 | AQ22: 40 | AR22: 41 | AS22: 42 | AT22: 43 | AU22: 44 | AV22: 45 | AW22: 46 | AX22: 47 | AY22: 48
B23: Lower bound on z | C23: =C6 -> -8 | D23: =IF(C26>$C$8,C25,C23) -> 0 | E23: =IF(D26>$C$8,D25,D23) -> 0 | F23: =IF(E26>$C$8,E25,E23) -> 0 | G23: =IF(F26>$C$8,F25,F23) -> 1 | H23: =IF(G26>$C$8,G25,G23) -> 1.5 | I23: =IF(H26>$C$8,H25,H23) -> 1.5 | J23: =IF(I26>$C$8,I25,I23) -> 1.5 | K23: =IF(J26>$C$8,J25,J23) -> 1.5625 | ... AY23: =IF(AX26>$C$8,AX25,AX23) -> 1.5887798
B24: Upper bound on z | C24: =C7 -> 8 | D24: =IF(C26>$C$8,C24,C25) -> 8 | E24: =IF(D26>$C$8,D24,D25) -> 4 | F24: =IF(E26>$C$8,E24,E25) -> 2 | G24: =IF(F26>$C$8,F24,F25) -> 2 | H24: =IF(G26>$C$8,G24,G25) -> 2 | I24: =IF(H26>$C$8,H24,H25) -> 1.75 | J24: =IF(I26>$C$8,I24,I25) -> 1.625 | K24: =IF(J26>$C$8,J24,J25) -> 1.625 | ... AY24: =IF(AX26>$C$8,AX24,AX25) -> 1.5887798
B25: Midpoint z | C25: =(C23+C24)/2 -> 0 | D25: =(D23+D24)/2 -> 4 | E25: =(E23+E24)/2 -> 2 | F25: =(F23+F24)/2 -> 1 | G25: =(G23+G24)/2 -> 1.5 | H25: =(H23+H24)/2 -> 1.75 | I25: =(I23+I24)/2 -> 1.625 | J25: =(J23+J24)/2 -> 1.5625 | ... AY25: =(AY23+AY24)/2 -> 1.5887798
B26: Expected shortage per cycle at the midpoint | C26: =(_xlfn.NORM.S.DIST(C25,FALSE())-(C25)*(1-_xlfn.NORM.S.DIST(C25,TRUE()))) -> 0.39894228 | D26: =(_xlfn.NORM.S.DIST(D25,FALSE())-(D25)*(1-_xlfn.NORM.S.DIST(D25,TRUE()))) -> 7.1452584e-06 | E26: =(_xlfn.NORM.S.DIST(E25,FALSE())-(E25)*(1-_xlfn.NORM.S.DIST(E25,TRUE()))) -> 0.0084907026 | F26: =(_xlfn.NORM.S.DIST(F25,FALSE())-(F25)*(1-_xlfn.NORM.S.DIST(F25,TRUE()))) -> 0.083315471 | G26: =(_xlfn.NORM.S.DIST(G25,FALSE())-(G25)*(1-_xlfn.NORM.S.DIST(G25,TRUE()))) -> 0.029306794 | H26: =(_xlfn.NORM.S.DIST(H25,FALSE())-(H25)*(1-_xlfn.NORM.S.DIST(H25,TRUE()))) -> 0.016173794 | I26: =(_xlfn.NORM.S.DIST(I25,FALSE())-(I25)*(1-_xlfn.NORM.S.DIST(I25,TRUE()))) -> 0.021906189 | J26: =(_xlfn.NORM.S.DIST(J25,FALSE())-(J25)*(1-_xlfn.NORM.S.DIST(J25,TRUE()))) -> 0.025376507 | ... AY26: =(_xlfn.NORM.S.DIST(AY25,FALSE())-(AY25)*(1-_xlfn.NORM.S.DIST(AY25,TRUE()))) -> 0.023863852

Sheet Three policies
B2: The same reference, read three ways
B4: Policy | C4: Cycle service level | D4: z | E4: Safety stock | F4: Inventory value | G4: Holding cost | H4: Shortage cost | I4: Total cost | J4: Fill rate | K4: Units missing per year
B5: Board vote | C5: =Assumptions!C17 -> 0.98 | D5: =_xlfn.NORM.S.INV(C5) -> 2.0537489 | E5: =D5*Assumptions!C22 -> 7546.7043 | F5: =(Assumptions!C23/2+E5)*Assumptions!C11 -> 278534.16 | G5: =F5*Assumptions!C19 -> 37323.577 | H5: =K5*Assumptions!C18 -> 11128.978 | I5: =G5+H5+Assumptions!C25 -> 56854.143 | J5: =1-K5/Assumptions!C20 -> 0.99384579 | K5: =Assumptions!C22*(_xlfn.NORM.S.DIST(D5,FALSE())-(D5)*(1-_xlfn.NORM.S.DIST(D5,TRUE())))*Assumptions!C24 -> 588.83481
B6: 98 % fill rate | C6: ='Fill rate solver'!C17 -> 0.94394494 | D6: =_xlfn.NORM.S.INV(C6) -> 1.5887798 | E6: =D6*Assumptions!C22 -> 5838.1291 | F6: =(Assumptions!C23/2+E6)*Assumptions!C11 -> 229668.91 | G6: =F6*Assumptions!C19 -> 30775.634 | H6: =K6*Assumptions!C18 -> 36167.04 | I6: =G6+H6+Assumptions!C25 -> 75344.261 | J6: =1-K6/Assumptions!C20 -> 0.98 | K6: =Assumptions!C22*(_xlfn.NORM.S.DIST(D6,FALSE())-(D6)*(1-_xlfn.NORM.S.DIST(D6,TRUE())))*Assumptions!C24 -> 1913.6
B7: Economic optimum | C7: =1-Assumptions!C23*Assumptions!C21/(Assumptions!C20*Assumptions!C18) -> 0.99070802 | D7: =_xlfn.NORM.S.INV(C7) -> 2.3537728 | E7: =D7*Assumptions!C22 -> 8649.1719 | F7: =(Assumptions!C23/2+E7)*Assumptions!C11 -> 310064.73 | G7: =F7*Assumptions!C19 -> 41548.674 | H7: =K7*Assumptions!C18 -> 4734.9451 | I7: =G7+H7+Assumptions!C25 -> 54685.207 | J7: =1-K7/Assumptions!C20 -> 0.99738162 | K7: =Assumptions!C22*(_xlfn.NORM.S.DIST(D7,FALSE())-(D7)*(1-_xlfn.NORM.S.DIST(D7,TRUE())))*Assumptions!C24 -> 250.5262
B8: Inventory value released, board vote to 98 % fill rate | F8: =F5-F6 -> 48865.251
B9: Change in total cost, board vote to 98 % fill rate | I9: =I6-I5 -> 18490.118
B10: Total cost gap, board vote to economic optimum | I10: =I5-I7 -> 2168.9359
B11: Whole dispute over the service level, 97 % to 99.5 % | I11: =MAX('Service level table'!H7:H10)-MIN('Service level table'!H7:H10) -> 6197.7167

Sheet Checks
B2: Every figure printed in the book, reproduced here
B4: Figure | C4: Book | D4: Workbook | E4: Difference | F4: Status
B5: Service level table, 90.00 % : z | C5: 1.2815516 | D5: ='Service level table'!C5 -> 1.2815516 | E5: =ABS(C5-D5) -> 2.9576341e-13 | F5: =IF(E5<=0.000000001*MAX(1,ABS(C5)),"OK","CHECK") -> OK
B6: Service level table, 90.00 % : safety stock | C6: 4709.1885 | D6: ='Service level table'!D5 -> 4709.1885 | E6: =ABS(C6-D6) -> 1.0868462e-09 | F6: =IF(E6<=0.000000001*MAX(1,ABS(C6)),"OK","CHECK") -> OK
B7: Service level table, 90.00 % : inventory value | C7: 197381.21 | D7: ='Service level table'!E5 -> 197381.21 | E7: =ABS(C7-D7) -> 3.1053787e-08 | F7: =IF(E7<=0.000000001*MAX(1,ABS(C7)),"OK","CHECK") -> OK
B8: Service level table, 90.00 % : holding cost | C8: 26449.082 | D8: ='Service level table'!F5 -> 26449.082 | E8: =ABS(C8-D8) -> 4.1654857e-09 | F8: =IF(E8<=0.000000001*MAX(1,ABS(C8)),"OK","CHECK") -> OK
B9: Service level table, 90.00 % : shortage cost | C9: 71751.306 | D9: ='Service level table'!G5 -> 71751.306 | E9: =ABS(C9-D9) -> 4.4761691e-08 | F9: =IF(E9<=0.000000001*MAX(1,ABS(C9)),"OK","CHECK") -> OK
B10: Service level table, 90.00 % : total cost | C10: 106601.98 | D10: ='Service level table'!H5 -> 106601.98 | E10: =ABS(C10-D10) -> 4.0585292e-08 | F10: =IF(E10<=0.000000001*MAX(1,ABS(C10)),"OK","CHECK") -> OK
B11: Service level table, 90.00 % : fill rate | C11: 0.96032227 | D11: ='Service level table'!I5 -> 0.96032227 | E11: =ABS(C11-D11) -> 2.4757973e-14 | F11: =IF(E11<=0.000000001*MAX(1,ABS(C11)),"OK","CHECK") -> OK
B12: Service level table, 90.00 % : units missing per year | C12: 3796.3654 | D12: ='Service level table'!J5 -> 3796.3654 | E12: =ABS(C12-D12) -> 2.3683242e-09 | F12: =IF(E12<=0.000000001*MAX(1,ABS(C12)),"OK","CHECK") -> OK
B13: Service level table, 95.00 % : z | C13: 1.6448536 | D13: ='Service level table'!C6 -> 1.6448536 | E13: =ABS(C13-D13) -> 1.5454305e-13 | F13: =IF(E13<=0.000000001*MAX(1,ABS(C13)),"OK","CHECK") -> OK
B14: Service level table, 95.00 % : safety stock | C14: 6044.178 | D14: ='Service level table'!D6 -> 6044.178 | E14: =ABS(C14-D14) -> 5.6752469e-10 | F14: =IF(E14<=0.000000001*MAX(1,ABS(C14)),"OK","CHECK") -> OK
B15: Service level table, 95.00 % : inventory value | C15: 235561.91 | D15: ='Service level table'!E6 -> 235561.91 | E15: =ABS(C15-D15) -> 1.618173e-08 | F15: =IF(E15<=0.000000001*MAX(1,ABS(C15)),"OK","CHECK") -> OK
B16: Service level table, 95.00 % : holding cost | C16: 31565.295 | D16: ='Service level table'!F6 -> 31565.295 | E16: =ABS(C16-D16) -> 2.1791493e-09 | F16: =IF(E16<=0.000000001*MAX(1,ABS(C16)),"OK","CHECK") -> OK
B17: Service level table, 95.00 % : shortage cost | C17: 31664.482 | D17: ='Service level table'!G6 -> 31664.482 | E17: =ABS(C17-D17) -> 1.1594238e-08 | F17: =IF(E17<=0.000000001*MAX(1,ABS(C17)),"OK","CHECK") -> OK
B18: Service level table, 95.00 % : total cost | C18: 71631.365 | D18: ='Service level table'!H6 -> 71631.365 | E18: =ABS(C18-D18) -> 9.4150892e-09 | F18: =IF(E18<=0.000000001*MAX(1,ABS(C18)),"OK","CHECK") -> OK
B19: Service level table, 95.00 % : fill rate | C19: 0.98248987 | D19: ='Service level table'!I6 -> 0.98248987 | E19: =ABS(C19-D19) -> 6.3282712e-15 | F19: =IF(E19<=0.000000001*MAX(1,ABS(C19)),"OK","CHECK") -> OK
B20: Service level table, 95.00 % : units missing per year | C20: 1675.3694 | D20: ='Service level table'!J6 -> 1675.3694 | E20: =ABS(C20-D20) -> 6.1345418e-10 | F20: =IF(E20<=0.000000001*MAX(1,ABS(C20)),"OK","CHECK") -> OK
B21: Service level table, 97.00 % : z | C21: 1.8807936 | D21: ='Service level table'!C7 -> 1.8807936 | E21: =ABS(C21-D21) -> 3.8458126e-13 | F21: =IF(E21<=0.000000001*MAX(1,ABS(C21)),"OK","CHECK") -> OK
B22: Service level table, 97.00 % : safety stock | C22: 6911.1629 | D22: ='Service level table'!D7 -> 6911.1629 | E22: =ABS(C22-D22) -> 1.4115358e-09 | F22: =IF(E22<=0.000000001*MAX(1,ABS(C22)),"OK","CHECK") -> OK
B23: Service level table, 97.00 % : inventory value | C23: 260357.67 | D23: ='Service level table'!E7 -> 260357.67 | E23: =ABS(C23-D23) -> 4.0337909e-08 | F23: =IF(E23<=0.000000001*MAX(1,ABS(C23)),"OK","CHECK") -> OK
B24: Service level table, 97.00 % : holding cost | C24: 34887.928 | D24: ='Service level table'!F7 -> 34887.928 | E24: =ABS(C24-D24) -> 5.4133125e-09 | F24: =IF(E24<=0.000000001*MAX(1,ABS(C24)),"OK","CHECK") -> OK
B25: Service level table, 97.00 % : shortage cost | C25: 17607.964 | D25: ='Service level table'!G7 -> 17607.964 | E25: =ABS(C25-D25) -> 1.7302227e-08 | F25: =IF(E25<=0.000000001*MAX(1,ABS(C25)),"OK","CHECK") -> OK
B26: Service level table, 97.00 % : total cost | C26: 60897.48 | D26: ='Service level table'!H7 -> 60897.48 | E26: =ABS(C26-D26) -> 1.1888915e-08 | F26: =IF(E26<=0.000000001*MAX(1,ABS(C26)),"OK","CHECK") -> OK
B27: Service level table, 97.00 % : fill rate | C27: 0.99026298 | D27: ='Service level table'!I7 -> 0.99026298 | E27: =ABS(C27-D27) -> 9.547918e-15 | F27: =IF(E27<=0.000000001*MAX(1,ABS(C27)),"OK","CHECK") -> OK
B28: Service level table, 97.00 % : units missing per year | C28: 931.63833 | D28: ='Service level table'!J7 -> 931.63833 | E28: =ABS(C28-D28) -> 9.1529273e-10 | F28: =IF(E28<=0.000000001*MAX(1,ABS(C28)),"OK","CHECK") -> OK
B29: Service level table, 98.00 % : z | C29: 2.0537489 | D29: ='Service level table'!C8 -> 2.0537489 | E29: =ABS(C29-D29) -> 4.3787196e-13 | F29: =IF(E29<=0.000000001*MAX(1,ABS(C29)),"OK","CHECK") -> OK
B30: Service level table, 98.00 % : safety stock | C30: 7546.7043 | D30: ='Service level table'!D8 -> 7546.7043 | E30: =ABS(C30-D30) -> 1.6088961e-09 | F30: =IF(E30<=0.000000001*MAX(1,ABS(C30)),"OK","CHECK") -> OK
B31: Service level table, 98.00 % : inventory value | C31: 278534.16 | D31: ='Service level table'!E8 -> 278534.16 | E31: =ABS(C31-D31) -> 4.6100467e-08 | F31: =IF(E31<=0.000000001*MAX(1,ABS(C31)),"OK","CHECK") -> OK
B32: Service level table, 98.00 % : holding cost | C32: 37323.577 | D32: ='Service level table'!F8 -> 37323.577 | E32: =ABS(C32-D32) -> 6.1700121e-09 | F32: =IF(E32<=0.000000001*MAX(1,ABS(C32)),"OK","CHECK") -> OK
B33: Service level table, 98.00 % : shortage cost | C33: 11128.978 | D33: ='Service level table'!G8 -> 11128.978 | E33: =ABS(C33-D33) -> 1.2913006e-08 | F33: =IF(E33<=0.000000001*MAX(1,ABS(C33)),"OK","CHECK") -> OK
B34: Service level table, 98.00 % : total cost | C34: 56854.143 | D34: ='Service level table'!H8 -> 56854.143 | E34: =ABS(C34-D34) -> 6.7448127e-09 | F34: =IF(E34<=0.000000001*MAX(1,ABS(C34)),"OK","CHECK") -> OK
B35: Service level table, 98.00 % : fill rate | C35: 0.99384579 | D35: ='Service level table'!I8 -> 0.99384579 | E35: =ABS(C35-D35) -> 7.1054274e-15 | F35: =IF(E35<=0.000000001*MAX(1,ABS(C35)),"OK","CHECK") -> OK
B36: Service level table, 98.00 % : units missing per year | C36: 588.83481 | D36: ='Service level table'!J8 -> 588.83481 | E36: =ABS(C36-D36) -> 6.8325789e-10 | F36: =IF(E36<=0.000000001*MAX(1,ABS(C36)),"OK","CHECK") -> OK
B37: Service level table, 99.00 % : z | C37: 2.3263479 | D37: ='Service level table'!C9 -> 2.3263479 | E37: =ABS(C37-D37) -> 3.4772185e-13 | F37: =IF(E37<=0.000000001*MAX(1,ABS(C37)),"OK","CHECK") -> OK
B38: Service level table, 99.00 % : safety stock | C38: 8548.3963 | D38: ='Service level table'!D9 -> 8548.3963 | E38: =ABS(C38-D38) -> 1.2769306e-09 | F38: =IF(E38<=0.000000001*MAX(1,ABS(C38)),"OK","CHECK") -> OK
B39: Service level table, 99.00 % : inventory value | C39: 307182.55 | D39: ='Service level table'!E9 -> 307182.55 | E39: =ABS(C39-D39) -> 3.6496203e-08 | F39: =IF(E39<=0.000000001*MAX(1,ABS(C39)),"OK","CHECK") -> OK
B40: Service level table, 99.00 % : holding cost | C40: 41162.462 | D40: ='Service level table'!F9 -> 41162.462 | E40: =ABS(C40-D40) -> 4.8894435e-09 | F40: =IF(E40<=0.000000001*MAX(1,ABS(C40)),"OK","CHECK") -> OK
B41: Service level table, 99.00 % : shortage cost | C41: 5135.7144 | D41: ='Service level table'!G9 -> 5135.7144 | E41: =ABS(C41-D41) -> 5.0058588e-09 | F41: =IF(E41<=0.000000001*MAX(1,ABS(C41)),"OK","CHECK") -> OK
B42: Service level table, 99.00 % : total cost | C42: 54699.764 | D42: ='Service level table'!H9 -> 54699.764 | E42: =ABS(C42-D42) -> 0 | F42: =IF(E42<=0.000000001*MAX(1,ABS(C42)),"OK","CHECK") -> OK
...
