Workbook

Sheet Assumptions
B2: Aldermere Filtration, reference AF-7. Blue cells are the only inputs.
B4: Parameter | C4: Value | D4: Unit
B5: Mean weekly demand | C5: 1840 | D5: units
B6: Standard deviation of weekly demand | C6: 462 | D6: units
B7: Weeks per year | C7: 52 | D7: weeks
B8: Mean replenishment lead time | C8: 6 | D8: weeks
B9: Standard deviation of lead time | C9: 1.9 | D9: weeks
B10: Selling price | C10: 47.5 | D10: EUR per unit
B11: Purchase cost delivered | C11: 28.6 | D11: EUR per unit
B12: Cost of capital | C12: 0.074 | D12: per year
B13: Storage | C13: 0.031 | D13: per year
B14: Obsolescence | C14: 0.0225 | D14: per year
B15: Insurance | C15: 0.0065 | D15: per year
B16: Cost of placing one order | C16: 385 | D16: EUR
B17: Cycle service level voted by the board | C17: 0.98 | D17: probability
B18: Unit margin | C18: =Assumptions!C10-Assumptions!C11 -> 18.9 | D18: EUR per unit
B19: Total holding rate | C19: =Assumptions!C12+Assumptions!C13+Assumptions!C14+Assumptions!C15 -> 0.134 | D19: per year
B20: Annual demand | C20: =Assumptions!C5*Assumptions!C7 -> 95680 | D20: units per year
B21: Holding cost of one unit for one year | C21: =Assumptions!C11*Assumptions!C19 -> 3.8324 | D21: EUR per unit per year
B22: Standard deviation of demand during lead time | C22: =SQRT(Assumptions!C8*Assumptions!C6^2+Assumptions!C5^2*Assumptions!C9^2) -> 3674.5993 | D22: units
B23: Economic order quantity | C23: =SQRT(2*Assumptions!C20*Assumptions!C16/Assumptions!C21) -> 4384.5046 | D23: units
B24: Orders per year | C24: =Assumptions!C20/Assumptions!C23 -> 21.822306 | D24: orders per year
B25: Annual ordering cost | C25: =Assumptions!C24*Assumptions!C16 -> 8401.5877 | D25: EUR per year
B26: z at the cycle service level voted by the board | C26: =_xlfn.NORM.S.INV(Assumptions!C17) -> 2.0537489 | D26: standard deviations
B27: Expected shortage per cycle, in sigma units | C27: =(_xlfn.NORM.S.DIST(Assumptions!C26,FALSE())-(Assumptions!C26)*(1-_xlfn.NORM.S.DIST(Assumptions!C26,TRUE()))) -> 0.0073431577 | D27: sigma units
B28: Units missing per year at the board service level | C28: =Assumptions!C22*Assumptions!C27*Assumptions!C24 -> 588.83481 | D28: units per year

Sheet Pooling
B2: Four regional depots against a single central warehouse
B4: Item | C4: Input | D4: Value | E4: Unit
B5: Number of regional depots | C5: 4 | E5: depots
B6: Mean weekly demand per depot | D6: =Assumptions!C5/C5 -> 460 | E6: units
B7: Standard deviation of weekly demand per depot | D7: =Assumptions!C6/SQRT(C5) -> 231 | E7: units
B8: Standard deviation during lead time, one depot | D8: =SQRT(Assumptions!C8*D7^2+D6^2*Assumptions!C9^2) -> 1041.1734 | E8: units
B9: Safety stock of one depot | D9: =Assumptions!C26*D8 -> 2138.3087 | E9: units
B10: Safety stock across the regional depots | D10: =C5*D9 -> 8553.2348 | E10: units
B11: Safety stock in a single central warehouse | D11: =Assumptions!C26*Assumptions!C22 -> 7546.7043 | E11: units
B12: Extra safety stock the dispersion requires | D12: =D10-D11 -> 1006.5304 | E12: units
B13: Extra safety stock, in money | D13: =D12*Assumptions!C11 -> 28786.771 | E13: EUR
B14: Economic order quantity of one depot | D14: =SQRT(2*(Assumptions!C20/C5)*Assumptions!C16/Assumptions!C21) -> 2192.2523 | E14: units
B15: Cycle stock across the regional depots | D15: =C5*D14/2 -> 4384.5046 | E15: units
B16: Cycle stock in a single central warehouse | D16: =Assumptions!C23/2 -> 2192.2523 | E16: units
B17: Extra cycle stock the dispersion requires | D17: =D15-D16 -> 2192.2523 | E17: units
B18: Extra cycle stock, in money | D18: =D17*Assumptions!C11 -> 62698.416 | E18: EUR
B19: Ordering cost across the regional depots | D19: =C5*((Assumptions!C20/C5)/D14)*Assumptions!C16 -> 16803.175 | E19: EUR per year
B20: Extra ordering cost the dispersion requires | D20: =D19-Assumptions!C25 -> 8401.5877 | E20: EUR per year
B21: Total extra stock tied up by the dispersion, safety plus cycle | D21: =D13+D18 -> 91485.187 | E21: EUR

Sheet Forecast bias
B2: The error that safety stock was never meant to cover
B4: Forecast bias | C4: Shift in demand during lead time | D4: Effective z implied by the shift | E4: Effect on holding | F4: Effect on shortage | G4: Net effect a year, plus is a cost
B5: -0.1 | C5: =B5*Assumptions!C5*Assumptions!C8 -> -1104 | D5: =Assumptions!C26+C5/Assumptions!C22 -> 1.753308 | E5: =C5*Assumptions!C11*Assumptions!C19 -> -4230.9696 | F5: =(Assumptions!C22*(_xlfn.NORM.S.DIST(D5,FALSE())-(D5)*(1-_xlfn.NORM.S.DIST(D5,TRUE())))*Assumptions!C24-Assumptions!C28)*Assumptions!C18 -> 13183.217 | G5: =E5+F5 -> 8952.2479
B6: -0.05 | C6: =B6*Assumptions!C5*Assumptions!C8 -> -552 | D6: =Assumptions!C26+C6/Assumptions!C22 -> 1.9035284 | E6: =C6*Assumptions!C11*Assumptions!C19 -> -2115.4848 | F6: =(Assumptions!C22*(_xlfn.NORM.S.DIST(D6,FALSE())-(D6)*(1-_xlfn.NORM.S.DIST(D6,TRUE())))*Assumptions!C24-Assumptions!C28)*Assumptions!C18 -> 5471.5811 | G6: =E6+F6 -> 3356.0963
B7: 0.05 | C7: =B7*Assumptions!C5*Assumptions!C8 -> 552 | D7: =Assumptions!C26+C7/Assumptions!C22 -> 2.2039694 | E7: =C7*Assumptions!C11*Assumptions!C19 -> 2115.4848 | F7: =(Assumptions!C22*(_xlfn.NORM.S.DIST(D7,FALSE())-(D7)*(1-_xlfn.NORM.S.DIST(D7,TRUE())))*Assumptions!C24-Assumptions!C28)*Assumptions!C18 -> -3805.6539 | G7: =E7+F7 -> -1690.1691
B8: 0.1 | C8: =B8*Assumptions!C5*Assumptions!C8 -> 1104 | D8: =Assumptions!C26+C8/Assumptions!C22 -> 2.3541898 | E8: =C8*Assumptions!C11*Assumptions!C19 -> 4230.9696 | F8: =(Assumptions!C22*(_xlfn.NORM.S.DIST(D8,FALSE())-(D8)*(1-_xlfn.NORM.S.DIST(D8,TRUE())))*Assumptions!C24-Assumptions!C28)*Assumptions!C18 -> -6399.9022 | G8: =E8+F8 -> -2168.9326

Sheet Holding rate
B2: The assumption nobody measures, and what it decides
B4: Holding rate | C4: Order quantity | D4: Inventory value | E4: Total cost | F4: Optimal cycle service level
B5: 0.08 | C5: =SQRT(2*Assumptions!C20*Assumptions!C16/(Assumptions!C11*B5)) -> 5674.5044 | D5: =(C5/2+Assumptions!C26*Assumptions!C22)*Assumptions!C11 -> 296981.16 | E5: =D5*B5+Assumptions!C20/C5*Assumptions!C16+Assumptions!C22*Assumptions!C27*Assumptions!C20/C5*Assumptions!C18 -> 38849.124 | F5: =1-C5*Assumptions!C11*B5/(Assumptions!C20*Assumptions!C18) -> 0.99282039
B6: 0.1 | C6: =SQRT(2*Assumptions!C20*Assumptions!C16/(Assumptions!C11*B6)) -> 5075.431 | D6: =(C6/2+Assumptions!C26*Assumptions!C22)*Assumptions!C11 -> 288414.41 | E6: =D6*B6+Assumptions!C20/C6*Assumptions!C16+Assumptions!C22*Assumptions!C27*Assumptions!C20/C6*Assumptions!C18 -> 45713.28 | F6: =1-C6*Assumptions!C11*B6/(Assumptions!C20*Assumptions!C18) -> 0.99197295
B7: 0.134 | C7: =SQRT(2*Assumptions!C20*Assumptions!C16/(Assumptions!C11*B7)) -> 4384.5046 | D7: =(C7/2+Assumptions!C26*Assumptions!C22)*Assumptions!C11 -> 278534.16 | E7: =D7*B7+Assumptions!C20/C7*Assumptions!C16+Assumptions!C22*Assumptions!C27*Assumptions!C20/C7*Assumptions!C18 -> 56854.143 | F7: =1-C7*Assumptions!C11*B7/(Assumptions!C20*Assumptions!C18) -> 0.99070802
B8: 0.16 | C8: =SQRT(2*Assumptions!C20*Assumptions!C16/(Assumptions!C11*B8)) -> 4012.4805 | D8: =(C8/2+Assumptions!C26*Assumptions!C22)*Assumptions!C11 -> 273214.21 | E8: =D8*B8+Assumptions!C20/C8*Assumptions!C16+Assumptions!C22*Assumptions!C27*Assumptions!C20/C8*Assumptions!C18 -> 65055.65 | F8: =1-C8*Assumptions!C11*B8/(Assumptions!C20*Assumptions!C18) -> 0.9898465
B9: 0.2 | C9: =SQRT(2*Assumptions!C20*Assumptions!C16/(Assumptions!C11*B9)) -> 3588.8717 | D9: =(C9/2+Assumptions!C26*Assumptions!C22)*Assumptions!C11 -> 267156.61 | E9: =D9*B9+Assumptions!C20/C9*Assumptions!C16+Assumptions!C22*Assumptions!C27*Assumptions!C20/C9*Assumptions!C18 -> 77291.705 | F9: =1-C9*Assumptions!C11*B9/(Assumptions!C20*Assumptions!C18) -> 0.98864804
B10: 0.25 | C10: =SQRT(2*Assumptions!C20*Assumptions!C16/(Assumptions!C11*B10)) -> 3209.9844 | D10: =(C10/2+Assumptions!C26*Assumptions!C22)*Assumptions!C11 -> 261738.52 | E10: =D10*B10+Assumptions!C20/C10*Assumptions!C16+Assumptions!C22*Assumptions!C27*Assumptions!C20/C10*Assumptions!C18 -> 92111.35 | F10: =1-C10*Assumptions!C11*B10/(Assumptions!C20*Assumptions!C18) -> 0.98730812

Sheet Checks
B2: Every figure printed in the book, reproduced here
B4: Figure | C4: Book | D4: Workbook | E4: Difference | F4: Status
B5: Mean weekly demand per depot | C5: 460 | D5: =Pooling!D6 -> 460 | E5: =ABS(C5-D5) -> 0 | F5: =IF(E5<=0.000000001*MAX(1,ABS(C5)),"OK","CHECK") -> OK
B6: Standard deviation of weekly demand per depot | C6: 231 | D6: =Pooling!D7 -> 231 | E6: =ABS(C6-D6) -> 0 | F6: =IF(E6<=0.000000001*MAX(1,ABS(C6)),"OK","CHECK") -> OK
B7: Safety stock across the regional depots | C7: 8553.2348 | D7: =Pooling!D10 -> 8553.2348 | E7: =ABS(C7-D7) -> 1.8244464e-09 | F7: =IF(E7<=0.000000001*MAX(1,ABS(C7)),"OK","CHECK") -> OK
B8: Safety stock in a single central warehouse | C8: 7546.7043 | D8: =Pooling!D11 -> 7546.7043 | E8: =ABS(C8-D8) -> 1.6088961e-09 | F8: =IF(E8<=0.000000001*MAX(1,ABS(C8)),"OK","CHECK") -> OK
B9: Extra safety stock the dispersion requires | C9: 1006.5304 | D9: =Pooling!D12 -> 1006.5304 | E9: =ABS(C9-D9) -> 2.1520918e-10 | F9: =IF(E9<=0.000000001*MAX(1,ABS(C9)),"OK","CHECK") -> OK
B10: Extra safety stock, in money | C10: 28786.771 | D10: =Pooling!D13 -> 28786.771 | E10: =ABS(C10-D10) -> 6.1663741e-09 | F10: =IF(E10<=0.000000001*MAX(1,ABS(C10)),"OK","CHECK") -> OK
B11: Economic order quantity of one depot | C11: 2192.2523 | D11: =Pooling!D14 -> 2192.2523 | E11: =ABS(C11-D11) -> 0 | F11: =IF(E11<=0.000000001*MAX(1,ABS(C11)),"OK","CHECK") -> OK
B12: Cycle stock across the regional depots | C12: 4384.5046 | D12: =Pooling!D15 -> 4384.5046 | E12: =ABS(C12-D12) -> 0 | F12: =IF(E12<=0.000000001*MAX(1,ABS(C12)),"OK","CHECK") -> OK
B13: Cycle stock in a single central warehouse | C13: 2192.2523 | D13: =Pooling!D16 -> 2192.2523 | E13: =ABS(C13-D13) -> 0 | F13: =IF(E13<=0.000000001*MAX(1,ABS(C13)),"OK","CHECK") -> OK
B14: Extra cycle stock the dispersion requires | C14: 2192.2523 | D14: =Pooling!D17 -> 2192.2523 | E14: =ABS(C14-D14) -> 0 | F14: =IF(E14<=0.000000001*MAX(1,ABS(C14)),"OK","CHECK") -> OK
B15: Extra cycle stock, in money | C15: 62698.416 | D15: =Pooling!D18 -> 62698.416 | E15: =ABS(C15-D15) -> 0 | F15: =IF(E15<=0.000000001*MAX(1,ABS(C15)),"OK","CHECK") -> OK
B16: Ordering cost across the regional depots | C16: 16803.175 | D16: =Pooling!D19 -> 16803.175 | E16: =ABS(C16-D16) -> 0 | F16: =IF(E16<=0.000000001*MAX(1,ABS(C16)),"OK","CHECK") -> OK
B17: Extra ordering cost the dispersion requires | C17: 8401.5877 | D17: =Pooling!D20 -> 8401.5877 | E17: =ABS(C17-D17) -> 0 | F17: =IF(E17<=0.000000001*MAX(1,ABS(C17)),"OK","CHECK") -> OK
B18: Total extra stock tied up by the dispersion | C18: 91485.187 | D18: =Pooling!D21 -> 91485.187 | E18: =ABS(C18-D18) -> 6.1700121e-09 | F18: =IF(E18<=0.000000001*MAX(1,ABS(C18)),"OK","CHECK") -> OK
B19: Forecast bias -10.0 % : shift in demand during lead time | C19: -1104 | D19: ='Forecast bias'!C5 -> -1104 | E19: =ABS(C19-D19) -> 0 | F19: =IF(E19<=0.000000001*MAX(1,ABS(C19)),"OK","CHECK") -> OK
B20: Forecast bias -10.0 % : effect on holding | C20: -4230.9696 | D20: ='Forecast bias'!E5 -> -4230.9696 | E20: =ABS(C20-D20) -> 0 | F20: =IF(E20<=0.000000001*MAX(1,ABS(C20)),"OK","CHECK") -> OK
B21: Forecast bias -10.0 % : effect on shortage | C21: 13183.217 | D21: ='Forecast bias'!F5 -> 13183.217 | E21: =ABS(C21-D21) -> 1.3294994e-08 | F21: =IF(E21<=0.000000001*MAX(1,ABS(C21)),"OK","CHECK") -> OK
B22: Forecast bias -10.0 % : net effect a year | C22: 8952.2479 | D22: ='Forecast bias'!G5 -> 8952.2479 | E22: =ABS(C22-D22) -> 1.3291356e-08 | F22: =IF(E22<=0.000000001*MAX(1,ABS(C22)),"OK","CHECK") -> OK
B23: Forecast bias -5.0 % : shift in demand during lead time | C23: -552 | D23: ='Forecast bias'!C6 -> -552 | E23: =ABS(C23-D23) -> 0 | F23: =IF(E23<=0.000000001*MAX(1,ABS(C23)),"OK","CHECK") -> OK
B24: Forecast bias -5.0 % : effect on holding | C24: -2115.4848 | D24: ='Forecast bias'!E6 -> -2115.4848 | E24: =ABS(C24-D24) -> 0 | F24: =IF(E24<=0.000000001*MAX(1,ABS(C24)),"OK","CHECK") -> OK
B25: Forecast bias -5.0 % : effect on shortage | C25: 5471.5811 | D25: ='Forecast bias'!F6 -> 5471.5811 | E25: =ABS(C25-D25) -> 6.0190359e-09 | F25: =IF(E25<=0.000000001*MAX(1,ABS(C25)),"OK","CHECK") -> OK
B26: Forecast bias -5.0 % : net effect a year | C26: 3356.0963 | D26: ='Forecast bias'!G6 -> 3356.0963 | E26: =ABS(C26-D26) -> 6.0190359e-09 | F26: =IF(E26<=0.000000001*MAX(1,ABS(C26)),"OK","CHECK") -> OK
B27: Forecast bias 5.0 % : shift in demand during lead time | C27: 552 | D27: ='Forecast bias'!C7 -> 552 | E27: =ABS(C27-D27) -> 0 | F27: =IF(E27<=0.000000001*MAX(1,ABS(C27)),"OK","CHECK") -> OK
B28: Forecast bias 5.0 % : effect on holding | C28: 2115.4848 | D28: ='Forecast bias'!E7 -> 2115.4848 | E28: =ABS(C28-D28) -> 0 | F28: =IF(E28<=0.000000001*MAX(1,ABS(C28)),"OK","CHECK") -> OK
B29: Forecast bias 5.0 % : effect on shortage | C29: -3805.6539 | D29: ='Forecast bias'!F7 -> -3805.6539 | E29: =ABS(C29-D29) -> 4.2750798e-09 | F29: =IF(E29<=0.000000001*MAX(1,ABS(C29)),"OK","CHECK") -> OK
B30: Forecast bias 5.0 % : net effect a year | C30: -1690.1691 | D30: ='Forecast bias'!G7 -> -1690.1691 | E30: =ABS(C30-D30) -> 4.2750798e-09 | F30: =IF(E30<=0.000000001*MAX(1,ABS(C30)),"OK","CHECK") -> OK
B31: Forecast bias 10.0 % : shift in demand during lead time | C31: 1104 | D31: ='Forecast bias'!C8 -> 1104 | E31: =ABS(C31-D31) -> 0 | F31: =IF(E31<=0.000000001*MAX(1,ABS(C31)),"OK","CHECK") -> OK
B32: Forecast bias 10.0 % : effect on holding | C32: 4230.9696 | D32: ='Forecast bias'!E8 -> 4230.9696 | E32: =ABS(C32-D32) -> 0 | F32: =IF(E32<=0.000000001*MAX(1,ABS(C32)),"OK","CHECK") -> OK
B33: Forecast bias 10.0 % : effect on shortage | C33: -6399.9022 | D33: ='Forecast bias'!F8 -> -6399.9022 | E33: =ABS(C33-D33) -> 6.9621819e-09 | F33: =IF(E33<=0.000000001*MAX(1,ABS(C33)),"OK","CHECK") -> OK
B34: Forecast bias 10.0 % : net effect a year | C34: -2168.9326 | D34: ='Forecast bias'!G8 -> -2168.9326 | E34: =ABS(C34-D34) -> 6.9621819e-09 | F34: =IF(E34<=0.000000001*MAX(1,ABS(C34)),"OK","CHECK") -> OK
B35: Holding rate 8.0 % : order quantity | C35: 5674.5044 | D35: ='Holding rate'!C5 -> 5674.5044 | E35: =ABS(C35-D35) -> 0 | F35: =IF(E35<=0.000000001*MAX(1,ABS(C35)),"OK","CHECK") -> OK
B36: Holding rate 8.0 % : inventory value | C36: 296981.16 | D36: ='Holding rate'!D5 -> 296981.16 | E36: =ABS(C36-D36) -> 4.604226e-08 | F36: =IF(E36<=0.000000001*MAX(1,ABS(C36)),"OK","CHECK") -> OK
B37: Holding rate 8.0 % : total cost | C37: 38849.124 | D37: ='Holding rate'!E5 -> 38849.124 | E37: =ABS(C37-D37) -> 6.2937033e-09 | F37: =IF(E37<=0.000000001*MAX(1,ABS(C37)),"OK","CHECK") -> OK
B38: Holding rate 8.0 % : optimal cycle service level | C38: 0.99282039 | D38: ='Holding rate'!F5 -> 0.99282039 | E38: =ABS(C38-D38) -> 0 | F38: =IF(E38<=0.000000001*MAX(1,ABS(C38)),"OK","CHECK") -> OK
B39: Holding rate 10.0 % : order quantity | C39: 5075.431 | D39: ='Holding rate'!C6 -> 5075.431 | E39: =ABS(C39-D39) -> 0 | F39: =IF(E39<=0.000000001*MAX(1,ABS(C39)),"OK","CHECK") -> OK
B40: Holding rate 10.0 % : inventory value | C40: 288414.41 | D40: ='Holding rate'!D6 -> 288414.41 | E40: =ABS(C40-D40) -> 4.604226e-08 | F40: =IF(E40<=0.000000001*MAX(1,ABS(C40)),"OK","CHECK") -> OK
B41: Holding rate 10.0 % : total cost | C41: 45713.28 | D41: ='Holding rate'!E6 -> 45713.28 | E41: =ABS(C41-D41) -> 6.5556378e-09 | F41: =IF(E41<=0.000000001*MAX(1,ABS(C41)),"OK","CHECK") -> OK
B42: Holding rate 10.0 % : optimal cycle service level | C42: 0.99197295 | D42: ='Holding rate'!F6 -> 0.99197295 | E42: =ABS(C42-D42) -> 0 | F42: =IF(E42<=0.000000001*MAX(1,ABS(C42)),"OK","CHECK") -> OK
...
